BEGIN:VCALENDAR
VERSION:2.0
PRODID:-//jEvents 2.0 for Joomla//EN
CALSCALE:GREGORIAN
METHOD:PUBLISH
BEGIN:VTIMEZONE
TZID:Europe/Brussels
BEGIN:STANDARD
DTSTART:20231029T020000
RDATE:20240331T030000
TZOFFSETFROM:+0200
TZOFFSETTO:+0100
TZNAME:Europe/Brussels CET
END:STANDARD
BEGIN:STANDARD
DTSTART:20241027T020000
RDATE:20250330T030000
TZOFFSETFROM:+0200
TZOFFSETTO:+0100
TZNAME:Europe/Brussels CET
END:STANDARD
BEGIN:STANDARD
DTSTART:20251026T020000
RDATE:20260329T030000
TZOFFSETFROM:+0200
TZOFFSETTO:+0100
TZNAME:Europe/Brussels CET
END:STANDARD
BEGIN:STANDARD
DTSTART:20261025T020000
RDATE:20270328T030000
TZOFFSETFROM:+0200
TZOFFSETTO:+0100
TZNAME:Europe/Brussels CET
END:STANDARD
BEGIN:STANDARD
DTSTART:20271031T020000
RDATE:20280326T030000
TZOFFSETFROM:+0200
TZOFFSETTO:+0100
TZNAME:Europe/Brussels CET
END:STANDARD
BEGIN:DAYLIGHT
DTSTART:20230902T170000
RDATE:20231029T020000
TZOFFSETFROM:+0100
TZOFFSETTO:+0200
TZNAME:Europe/Brussels CEST
END:DAYLIGHT
BEGIN:DAYLIGHT
DTSTART:20240331T030000
RDATE:20241027T020000
TZOFFSETFROM:+0100
TZOFFSETTO:+0200
TZNAME:Europe/Brussels CEST
END:DAYLIGHT
BEGIN:DAYLIGHT
DTSTART:20250330T030000
RDATE:20251026T020000
TZOFFSETFROM:+0100
TZOFFSETTO:+0200
TZNAME:Europe/Brussels CEST
END:DAYLIGHT
BEGIN:DAYLIGHT
DTSTART:20260329T030000
RDATE:20261025T020000
TZOFFSETFROM:+0100
TZOFFSETTO:+0200
TZNAME:Europe/Brussels CEST
END:DAYLIGHT
BEGIN:DAYLIGHT
DTSTART:20270328T030000
RDATE:20271031T020000
TZOFFSETFROM:+0100
TZOFFSETTO:+0200
TZNAME:Europe/Brussels CEST
END:DAYLIGHT
END:VTIMEZONE
BEGIN:VEVENT
UID:2c386cd73416dc2e59b7eba37c034340
CATEGORIES:Badminton
CREATED:19700101T010000
SUMMARY:Badminton
LOCATION:Sporthal Linkeroever
DESCRIPTION:<p>Badminton</p>
CONTACT:badminton@activecompany.be
DTSTAMP:20260422T101050
DTSTART;TZID=Europe/Brussels:20240902T170000
DTEND;TZID=Europe/Brussels:20240902T220000
SEQUENCE:0
RRULE:FREQ=WEEKLY;UNTIL=20250701T000000Z;INTERVAL=1;BYDAY=MO
TRANSP:OPAQUE
END:VEVENT
BEGIN:VEVENT
UID:2c386cd73416dc2e59b7eba37c034340
CATEGORIES:Badminton
CREATED:20240604T193129
SUMMARY:GEEN Badminton
LOCATION:Sporthal Linkeroever
DESCRIPTION:<p>Badminton</p>
URL;VALUE=URI:https://activecompany.be/en/agenda/eventdetail/15252/-/geen-badminton?tmpl=
 component
CONTACT:This email address is being protected from spambots. You need JavaScript enabled to view it.

DTSTAMP:20260422T101050
DTSTART;TZID=Europe/Brussels:20250616T170000
DTEND;TZID=Europe/Brussels:20250616T220000
RECURRENCE-ID;TZID=Europe/Brussels:20250616T170000
SEQUENCE:0
TRANSP:OPAQUE
END:VEVENT
BEGIN:VEVENT
UID:2c386cd73416dc2e59b7eba37c034340
CATEGORIES:Badminton
CREATED:20240604T193129
SUMMARY:GEEN BADMINTON 
LOCATION:Sporthal Linkeroever
DESCRIPTION:<p>Paasmaandag&nbsp;</p>
URL;VALUE=URI:https://activecompany.be/en/agenda/eventdetail/15244/-/geen-badminton?tmpl=
 component
CONTACT:This email address is being protected from spambots. You need JavaScript enabled to view it.

DTSTAMP:20260422T101050
DTSTART;TZID=Europe/Brussels:20250421T170000
DTEND;TZID=Europe/Brussels:20250421T220000
RECURRENCE-ID;TZID=Europe/Brussels:20250421T170000
SEQUENCE:0
TRANSP:OPAQUE
END:VEVENT
BEGIN:VEVENT
UID:2c386cd73416dc2e59b7eba37c034340
CATEGORIES:Badminton
CREATED:20240604T193129
SUMMARY:Geen Badminton
LOCATION:Sporthal Linkeroever
DESCRIPTION:<p>Geen badminton</p>
URL;VALUE=URI:https://activecompany.be/en/agenda/eventdetail/15251/-/geen-badminton?tmpl=
 component
CONTACT:This email address is being protected from spambots. You need JavaScript enabled to view it.

DTSTAMP:20260422T101050
DTSTART;TZID=Europe/Brussels:20250609T170000
DTEND;TZID=Europe/Brussels:20250609T220000
RECURRENCE-ID;TZID=Europe/Brussels:20250609T170000
SEQUENCE:0
TRANSP:OPAQUE
END:VEVENT
END:VCALENDAR