BEGIN:VCALENDAR
VERSION:2.0
PRODID:-//jEvents 2.0 for Joomla//EN
CALSCALE:GREGORIAN
METHOD:PUBLISH
BEGIN:VTIMEZONE
TZID:Europe/Brussels
BEGIN:STANDARD
DTSTART:20241027T020000
RDATE:20250330T030000
TZOFFSETFROM:+0200
TZOFFSETTO:+0100
TZNAME:Europe/Brussels CET
END:STANDARD
BEGIN:STANDARD
DTSTART:20251026T020000
RDATE:20260329T030000
TZOFFSETFROM:+0200
TZOFFSETTO:+0100
TZNAME:Europe/Brussels CET
END:STANDARD
BEGIN:STANDARD
DTSTART:20261025T020000
RDATE:20270328T030000
TZOFFSETFROM:+0200
TZOFFSETTO:+0100
TZNAME:Europe/Brussels CET
END:STANDARD
BEGIN:STANDARD
DTSTART:20271031T020000
RDATE:20280326T030000
TZOFFSETFROM:+0200
TZOFFSETTO:+0100
TZNAME:Europe/Brussels CET
END:STANDARD
BEGIN:DAYLIGHT
DTSTART:20240612T201500
RDATE:20241027T020000
TZOFFSETFROM:+0100
TZOFFSETTO:+0200
TZNAME:Europe/Brussels CEST
END:DAYLIGHT
BEGIN:DAYLIGHT
DTSTART:20250330T030000
RDATE:20251026T020000
TZOFFSETFROM:+0100
TZOFFSETTO:+0200
TZNAME:Europe/Brussels CEST
END:DAYLIGHT
BEGIN:DAYLIGHT
DTSTART:20260329T030000
RDATE:20261025T020000
TZOFFSETFROM:+0100
TZOFFSETTO:+0200
TZNAME:Europe/Brussels CEST
END:DAYLIGHT
BEGIN:DAYLIGHT
DTSTART:20270328T030000
RDATE:20271031T020000
TZOFFSETFROM:+0100
TZOFFSETTO:+0200
TZNAME:Europe/Brussels CEST
END:DAYLIGHT
END:VTIMEZONE
BEGIN:VEVENT
UID:fe56a398ab996c3ca8236c42e5920261
CATEGORIES:Waterpolo
CREATED:19700101T010000
SUMMARY:Waterpolo - Outdoor De Molen
LOCATION:Openluchtzwembad De Molen\, Wandeldijk 40\, 2050 Antwerpen
DESCRIPTION:Wil je een eerste keer meedoen? Altijd welkom en de eerste training is grat
 is! Kijk op onderstaande pagina voor meer info en geef ons vooraf een seint
 je:\nDo you want to participate for the first time? Always welcome and the 
 first training is free! Look at the page below for more information and sen
 d us an email in advance:\n (nl/activiteiten/waterpolo)https://www.activeco
 mpany.be/nl/activiteiten/waterpolo (nl/activiteiten/waterpolo)\n
X-ALT-DESC;FMTTYPE=text/html:<p>Wil je een eerste keer meedoen? Altijd welkom en de eerste training is g
 ratis! Kijk op onderstaande pagina voor meer info en geef ons vooraf een se
 intje:</p><p>Do you want to participate for the first time? Always welcome 
 and the first training is free! Look at the page below for more information
  and send us an email in advance:</p><p><a href="https://activecompany.be/n
 l/activiteiten/waterpolo"></a><a href="https://activecompany.be/nl/activite
 iten/waterpolo" target="_blank" rel="noopener">https://www.activecompany.be
 /nl/activiteiten/waterpolo</a></p>
CONTACT:waterpolo@activecompany.be
DTSTAMP:20260422T100548
DTSTART;TZID=Europe/Brussels:20250613T201500
DTEND;TZID=Europe/Brussels:20250613T214500
SEQUENCE:0
RRULE:FREQ=WEEKLY;UNTIL=20250724T000000Z;INTERVAL=1;BYDAY=FR
TRANSP:OPAQUE
END:VEVENT
END:VCALENDAR