BEGIN:VCALENDAR
VERSION:2.0
PRODID:-//jEvents 2.0 for Joomla//EN
CALSCALE:GREGORIAN
METHOD:PUBLISH
BEGIN:VTIMEZONE
TZID:Europe/Brussels
BEGIN:STANDARD
DTSTART:20241027T020000
RDATE:20250330T030000
TZOFFSETFROM:+0200
TZOFFSETTO:+0100
TZNAME:Europe/Brussels CET
END:STANDARD
BEGIN:STANDARD
DTSTART:20251026T020000
RDATE:20260329T030000
TZOFFSETFROM:+0200
TZOFFSETTO:+0100
TZNAME:Europe/Brussels CET
END:STANDARD
BEGIN:STANDARD
DTSTART:20261025T020000
RDATE:20270328T030000
TZOFFSETFROM:+0200
TZOFFSETTO:+0100
TZNAME:Europe/Brussels CET
END:STANDARD
BEGIN:STANDARD
DTSTART:20271031T020000
RDATE:20280326T030000
TZOFFSETFROM:+0200
TZOFFSETTO:+0100
TZNAME:Europe/Brussels CET
END:STANDARD
BEGIN:DAYLIGHT
DTSTART:20240831T170000
RDATE:20241027T020000
TZOFFSETFROM:+0100
TZOFFSETTO:+0200
TZNAME:Europe/Brussels CEST
END:DAYLIGHT
BEGIN:DAYLIGHT
DTSTART:20250330T030000
RDATE:20251026T020000
TZOFFSETFROM:+0100
TZOFFSETTO:+0200
TZNAME:Europe/Brussels CEST
END:DAYLIGHT
BEGIN:DAYLIGHT
DTSTART:20260329T030000
RDATE:20261025T020000
TZOFFSETFROM:+0100
TZOFFSETTO:+0200
TZNAME:Europe/Brussels CEST
END:DAYLIGHT
BEGIN:DAYLIGHT
DTSTART:20270328T030000
RDATE:20271031T020000
TZOFFSETFROM:+0100
TZOFFSETTO:+0200
TZNAME:Europe/Brussels CEST
END:DAYLIGHT
END:VTIMEZONE
BEGIN:VEVENT
UID:2e2c4d2530994288738f20b587ec93fe
CATEGORIES:Badminton
CREATED:19700101T010000
SUMMARY:Badminton
LOCATION:Sporthal Linkeroever
DESCRIPTION:Badminton op maandag\n
X-ALT-DESC;FMTTYPE=text/html:<p>Badminton op maandag</p>
CONTACT:badminton@activecompany.be
DTSTAMP:20260423T103035
DTSTART;TZID=Europe/Brussels:20250901T170000
DTEND;TZID=Europe/Brussels:20250901T220000
SEQUENCE:0
RRULE:FREQ=WEEKLY;UNTIL=20260629T000000Z;INTERVAL=1;BYDAY=MO
EXDATE;TZID=Europe/Brussels:20260406T170000,20260525T170000
TRANSP:OPAQUE
END:VEVENT
BEGIN:VEVENT
UID:2e2c4d2530994288738f20b587ec93fe
CATEGORIES:Badminton
CREATED:20250605T233742
SUMMARY:Badminton
LOCATION:Sporthal Linkeroever
DESCRIPTION:Pas vanaf 19u Badminton op maandag\n
X-ALT-DESC;FMTTYPE=text/html:<p>Pas vanaf 19u Badminton op maandag</p>
URL;VALUE=URI:https://activecompany.be/en/agenda/eventdetail/16020/-/badminton?tmpl=compo
 nent
CONTACT:This email address is being protected from spambots. You need JavaScript enabled to view it.

DTSTAMP:20260423T103035
DTSTART;TZID=Europe/Brussels:20250915T190000
DTEND;TZID=Europe/Brussels:20250915T220000
RECURRENCE-ID;TZID=Europe/Brussels:20250915T170000
SEQUENCE:0
TRANSP:OPAQUE
END:VEVENT
END:VCALENDAR