BEGIN:VCALENDAR
VERSION:2.0
PRODID:-//jEvents 2.0 for Joomla//EN
CALSCALE:GREGORIAN
METHOD:PUBLISH
BEGIN:VTIMEZONE
TZID:Europe/Brussels
BEGIN:STANDARD
DTSTART:20241027T020000
RDATE:20250330T030000
TZOFFSETFROM:+0200
TZOFFSETTO:+0100
TZNAME:Europe/Brussels CET
END:STANDARD
BEGIN:STANDARD
DTSTART:20251026T020000
RDATE:20260329T030000
TZOFFSETFROM:+0200
TZOFFSETTO:+0100
TZNAME:Europe/Brussels CET
END:STANDARD
BEGIN:STANDARD
DTSTART:20261025T020000
RDATE:20270328T030000
TZOFFSETFROM:+0200
TZOFFSETTO:+0100
TZNAME:Europe/Brussels CET
END:STANDARD
BEGIN:STANDARD
DTSTART:20271031T020000
RDATE:20280326T030000
TZOFFSETFROM:+0200
TZOFFSETTO:+0100
TZNAME:Europe/Brussels CET
END:STANDARD
BEGIN:DAYLIGHT
DTSTART:20240811T200000
RDATE:20241027T020000
TZOFFSETFROM:+0100
TZOFFSETTO:+0200
TZNAME:Europe/Brussels CEST
END:DAYLIGHT
BEGIN:DAYLIGHT
DTSTART:20250330T030000
RDATE:20251026T020000
TZOFFSETFROM:+0100
TZOFFSETTO:+0200
TZNAME:Europe/Brussels CEST
END:DAYLIGHT
BEGIN:DAYLIGHT
DTSTART:20260329T030000
RDATE:20261025T020000
TZOFFSETFROM:+0100
TZOFFSETTO:+0200
TZNAME:Europe/Brussels CEST
END:DAYLIGHT
BEGIN:DAYLIGHT
DTSTART:20270328T030000
RDATE:20271031T020000
TZOFFSETFROM:+0100
TZOFFSETTO:+0200
TZNAME:Europe/Brussels CEST
END:DAYLIGHT
END:VTIMEZONE
BEGIN:VEVENT
UID:0fd919860f510a0274240ba9538bb5bf
CATEGORIES:Volleybal
CREATED:20250626T100723
SUMMARY:Volleybal - Wilrijkse pleinen
LOCATION:Sporthal Wilrijkse Plein
DESCRIPTION:Normaal zijn er tijdens de maanden juli en augustus geen volleybal training
 en.  We proberen het dit jaar uit. Daar onze vertrouwde sporthal niet besch
 ikbaar is, wijken we uit. Vandaag naar de Wilrijkse pleinen.  Je bent zeker
  welkom\n
X-ALT-DESC;FMTTYPE=text/html:<p>Normaal zijn er tijdens de maanden juli en augustus geen volleybal train
 ingen.&nbsp; We proberen het dit jaar uit. Daar onze vertrouwde sporthal ni
 et beschikbaar is, wijken we uit. Vandaag naar de Wilrijkse pleinen.&nbsp; 
 Je bent zeker welkom</p>
CONTACT:Luc
X-EXTRAINFO:https://maps.app.goo.gl/qpUPAUNa436pRGeJ8
DTSTAMP:20260423T103602
DTSTART;TZID=Europe/Brussels:20250812T200000
DTEND;TZID=Europe/Brussels:20250812T220000
SEQUENCE:0
TRANSP:OPAQUE
END:VEVENT
END:VCALENDAR