BEGIN:VCALENDAR
VERSION:2.0
PRODID:-//jEvents 2.0 for Joomla//EN
CALSCALE:GREGORIAN
METHOD:PUBLISH
BEGIN:VTIMEZONE
TZID:Europe/Brussels
BEGIN:STANDARD
DTSTART:20241112T210000
RDATE:20250330T030000
TZOFFSETFROM:+0200
TZOFFSETTO:+0100
TZNAME:Europe/Brussels CET
END:STANDARD
BEGIN:STANDARD
DTSTART:20251026T020000
RDATE:20260329T030000
TZOFFSETFROM:+0200
TZOFFSETTO:+0100
TZNAME:Europe/Brussels CET
END:STANDARD
BEGIN:STANDARD
DTSTART:20261025T020000
RDATE:20270328T030000
TZOFFSETFROM:+0200
TZOFFSETTO:+0100
TZNAME:Europe/Brussels CET
END:STANDARD
BEGIN:STANDARD
DTSTART:20271031T020000
RDATE:20280326T030000
TZOFFSETFROM:+0200
TZOFFSETTO:+0100
TZNAME:Europe/Brussels CET
END:STANDARD
BEGIN:DAYLIGHT
DTSTART:20250330T030000
RDATE:20251026T020000
TZOFFSETFROM:+0100
TZOFFSETTO:+0200
TZNAME:Europe/Brussels CEST
END:DAYLIGHT
BEGIN:DAYLIGHT
DTSTART:20260329T030000
RDATE:20261025T020000
TZOFFSETFROM:+0100
TZOFFSETTO:+0200
TZNAME:Europe/Brussels CEST
END:DAYLIGHT
BEGIN:DAYLIGHT
DTSTART:20270328T030000
RDATE:20271031T020000
TZOFFSETFROM:+0100
TZOFFSETTO:+0200
TZNAME:Europe/Brussels CEST
END:DAYLIGHT
END:VTIMEZONE
BEGIN:VEVENT
UID:892277f7b1588ccf8218bc3612e85cc3
CATEGORIES:Waterpolo
CREATED:20250826T152610
SUMMARY:Waterpolo training
LOCATION:Zwembad Park van Merksem\, Van Heybeeckstraat 9\, 2170 Antwerpen\, Belgium
DESCRIPTION:<p>Wil je een eerste keer meedoen? Altijd welkom en de eerste training is g
 ratis! Kijk op onderstaande pagina voor meer info en geef ons vooraf een se
 intje:</p><p>Do you want to participate for the first time? Always welcome 
 and the first training is free! Look at the page below for more information
  and send us an email in advance:</p><p><a href="nl/activiteiten/waterpolo"
 ></a><a href="https://www.activecompany.be/nl/activiteiten/waterpolo" targe
 t="_blank" rel="noopener">https://www.activecompany.be/nl/activiteiten/wate
 rpolo</a></p>
X-ALT-DESC;FMTTYPE=text/html:<p>Wil je een eerste keer meedoen? Altijd welkom en de eerste training is g
 ratis! Kijk op onderstaande pagina voor meer info en geef ons vooraf een se
 intje:</p><p>Do you want to participate for the first time? Always welcome 
 and the first training is free! Look at the page below for more information
  and send us an email in advance:</p><p><a href="https://activecompany.be/n
 l/activiteiten/waterpolo"></a><a href="https://www.activecompany.be/nl/acti
 viteiten/waterpolo" target="_blank" rel="noopener">https://www.activecompan
 y.be/nl/activiteiten/waterpolo</a></p>
CONTACT:This email address is being protected from spambots. You need JavaScript enabled to view it.
DTSTAMP:20260422T100725
DTSTART;TZID=Europe/Brussels:20251113T210000
DTEND;TZID=Europe/Brussels:20251113T223000
SEQUENCE:0
TRANSP:OPAQUE
END:VEVENT
END:VCALENDAR