BEGIN:VCALENDAR
VERSION:2.0
PRODID:-//jEvents 2.0 for Joomla//EN
CALSCALE:GREGORIAN
METHOD:PUBLISH
BEGIN:VTIMEZONE
TZID:Europe/Brussels
BEGIN:STANDARD
DTSTART:20241027T020000
RDATE:20250330T030000
TZOFFSETFROM:+0200
TZOFFSETTO:+0100
TZNAME:Europe/Brussels CET
END:STANDARD
BEGIN:STANDARD
DTSTART:20251026T020000
RDATE:20260329T030000
TZOFFSETFROM:+0200
TZOFFSETTO:+0100
TZNAME:Europe/Brussels CET
END:STANDARD
BEGIN:STANDARD
DTSTART:20261025T020000
RDATE:20270328T030000
TZOFFSETFROM:+0200
TZOFFSETTO:+0100
TZNAME:Europe/Brussels CET
END:STANDARD
BEGIN:STANDARD
DTSTART:20271031T020000
RDATE:20280326T030000
TZOFFSETFROM:+0200
TZOFFSETTO:+0100
TZNAME:Europe/Brussels CET
END:STANDARD
BEGIN:DAYLIGHT
DTSTART:20240901T201500
RDATE:20241027T020000
TZOFFSETFROM:+0100
TZOFFSETTO:+0200
TZNAME:Europe/Brussels CEST
END:DAYLIGHT
BEGIN:DAYLIGHT
DTSTART:20250330T030000
RDATE:20251026T020000
TZOFFSETFROM:+0100
TZOFFSETTO:+0200
TZNAME:Europe/Brussels CEST
END:DAYLIGHT
BEGIN:DAYLIGHT
DTSTART:20260329T030000
RDATE:20261025T020000
TZOFFSETFROM:+0100
TZOFFSETTO:+0200
TZNAME:Europe/Brussels CEST
END:DAYLIGHT
BEGIN:DAYLIGHT
DTSTART:20270328T030000
RDATE:20271031T020000
TZOFFSETFROM:+0100
TZOFFSETTO:+0200
TZNAME:Europe/Brussels CEST
END:DAYLIGHT
END:VTIMEZONE
BEGIN:VEVENT
UID:e29f880d0b45e374dc66317016a98ec4
CATEGORIES:Workout
CREATED:19700101T010000
SUMMARY:Workout
LOCATION:Blancefloerlaan 183\, 2050 Linkeroever
DESCRIPTION:De AC Workout...\nBeroemd, berucht, maar vooral plezant.\n60 minuten zweten
 , hijgen en puffen op fijne beats! Is er iets leukers??\nWaar: Sporthal Lin
 keroever, Blancefloerlaan 183, 2050 Antwerpen\nWanneer: elke dinsdag, verza
 melen om 20u, start 20.15u, einde 21.15u (laatkomers doen 16356 burpees ext
 ra)\nMeenemen:\n- yoga mat\n- water\n- douchegerief als je wil douchen. \nE
 erste keer meedoen? stuur effe een mail naar av.workout@activecompany.be (m
 ailto:av.workout@activecompany.be)\n
X-ALT-DESC;FMTTYPE=text/html:<p>De AC Workout...</p><p>Beroemd, berucht, maar vooral plezant.</p><p>60 m
 inuten zweten, hijgen en puffen op fijne beats! Is er iets leukers??</p><p>
 Waar: Sporthal Linkeroever, Blancefloerlaan 183, 2050 Antwerpen</p><p>Wanne
 er: elke dinsdag, verzamelen om 20u, start 20.15u, einde 21.15u (laatkomers
  doen 16356 burpees extra)</p><p>Meenemen:</p><p>- yoga mat</p><p>- water</
 p><p>- douchegerief als je wil douchen.&nbsp;</p><p>Eerste keer meedoen? st
 uur effe een mail naar&nbsp;<a href="mailto:av.workout@activecompany.be">av
 .workout@activecompany.be</a></p>
CONTACT:av.workout@activecompany.be
X-EXTRAINFO:Eerste keer meedoen? stuur effe een mail naar av.workout@activecompany.be\n
DTSTAMP:20260422T164301
DTSTART;TZID=Europe/Brussels:20250902T201500
DTEND;TZID=Europe/Brussels:20250902T211500
SEQUENCE:0
RRULE:FREQ=WEEKLY;UNTIL=20260701T000000Z;INTERVAL=1;BYDAY=TU
EXDATE;TZID=Europe/Brussels:20251230T201500
TRANSP:OPAQUE
END:VEVENT
END:VCALENDAR