BEGIN:VCALENDAR
VERSION:2.0
PRODID:-//jEvents 2.0 for Joomla//EN
CALSCALE:GREGORIAN
METHOD:PUBLISH
BEGIN:VTIMEZONE
TZID:Europe/Brussels
BEGIN:STANDARD
DTSTART:20241027T020000
RDATE:20250330T030000
TZOFFSETFROM:+0200
TZOFFSETTO:+0100
TZNAME:Europe/Brussels CET
END:STANDARD
BEGIN:STANDARD
DTSTART:20251026T020000
RDATE:20260329T030000
TZOFFSETFROM:+0200
TZOFFSETTO:+0100
TZNAME:Europe/Brussels CET
END:STANDARD
BEGIN:STANDARD
DTSTART:20261025T020000
RDATE:20270328T030000
TZOFFSETFROM:+0200
TZOFFSETTO:+0100
TZNAME:Europe/Brussels CET
END:STANDARD
BEGIN:STANDARD
DTSTART:20271031T020000
RDATE:20280326T030000
TZOFFSETFROM:+0200
TZOFFSETTO:+0100
TZNAME:Europe/Brussels CET
END:STANDARD
BEGIN:DAYLIGHT
DTSTART:20240920T160000
RDATE:20241027T020000
TZOFFSETFROM:+0100
TZOFFSETTO:+0200
TZNAME:Europe/Brussels CEST
END:DAYLIGHT
BEGIN:DAYLIGHT
DTSTART:20250330T030000
RDATE:20251026T020000
TZOFFSETFROM:+0100
TZOFFSETTO:+0200
TZNAME:Europe/Brussels CEST
END:DAYLIGHT
BEGIN:DAYLIGHT
DTSTART:20260329T030000
RDATE:20261025T020000
TZOFFSETFROM:+0100
TZOFFSETTO:+0200
TZNAME:Europe/Brussels CEST
END:DAYLIGHT
BEGIN:DAYLIGHT
DTSTART:20270328T030000
RDATE:20271031T020000
TZOFFSETFROM:+0100
TZOFFSETTO:+0200
TZNAME:Europe/Brussels CEST
END:DAYLIGHT
END:VTIMEZONE
BEGIN:VEVENT
UID:a59854c0a3007a9a608ec2532ee5dc24
CATEGORIES:Tennis
CREATED:19700101T010000
SUMMARY:Tennis (winterseizoen)
LOCATION:Sporting Hove\, Elzenlaan 33
DESCRIPTION:Reserveren is verplicht via  (https://calendly.com/ACA-tennis)https://calen
 dly.com/ACA-tennis (https://calendly.com/ACA-tennis) en kan vanaf 2 weken v
 ooraf.\nYou have to book your place in advance via  (https://calendly.com/A
 CA-tennis)https://calendly.com/ACA-tennis (https://calendly.com/ACA-tennis)
  which is possible 2 weeks in advance. \n
X-ALT-DESC;FMTTYPE=text/html:<p>Reserveren is verplicht via&nbsp;<a href="https://calendly.com/ACA-tenni
 s"></a><a href="https://calendly.com/ACA-tennis" target="_blank" rel="noope
 ner">https://calendly.com/ACA-tennis</a>&nbsp;en kan vanaf 2 weken vooraf.<
 /p><p>You have to book your place in advance&nbsp;via&nbsp;<a href="https:/
 /calendly.com/ACA-tennis"></a><a href="https://calendly.com/ACA-tennis" tar
 get="_blank" rel="noopener">https://calendly.com/ACA-tennis</a>&nbsp;which 
 is possible 2 weeks in advance.&nbsp;</p>
CONTACT:tennis@activecompany.be
X-EXTRAINFO:https://activecompany.be/nl/activiteiten/tennis
DTSTAMP:20260422T172336
DTSTART;TZID=Europe/Brussels:20250921T160000
DTEND;TZID=Europe/Brussels:20250921T180000
SEQUENCE:0
RRULE:FREQ=WEEKLY;UNTIL=20260420T000000Z;INTERVAL=1;BYDAY=SU
EXDATE;TZID=Europe/Brussels:20251102T160000,20251228T160000
TRANSP:OPAQUE
END:VEVENT
END:VCALENDAR