BEGIN:VCALENDAR
VERSION:2.0
PRODID:-//jEvents 2.0 for Joomla//EN
CALSCALE:GREGORIAN
METHOD:PUBLISH
BEGIN:VTIMEZONE
TZID:Europe/Brussels
BEGIN:STANDARD
DTSTART:20241027T020000
RDATE:20250330T030000
TZOFFSETFROM:+0200
TZOFFSETTO:+0100
TZNAME:Europe/Brussels CET
END:STANDARD
BEGIN:STANDARD
DTSTART:20251026T020000
RDATE:20260329T030000
TZOFFSETFROM:+0200
TZOFFSETTO:+0100
TZNAME:Europe/Brussels CET
END:STANDARD
BEGIN:STANDARD
DTSTART:20261025T020000
RDATE:20270328T030000
TZOFFSETFROM:+0200
TZOFFSETTO:+0100
TZNAME:Europe/Brussels CET
END:STANDARD
BEGIN:STANDARD
DTSTART:20271031T020000
RDATE:20280326T030000
TZOFFSETFROM:+0200
TZOFFSETTO:+0100
TZNAME:Europe/Brussels CET
END:STANDARD
BEGIN:DAYLIGHT
DTSTART:20240901T200000
RDATE:20241027T020000
TZOFFSETFROM:+0100
TZOFFSETTO:+0200
TZNAME:Europe/Brussels CEST
END:DAYLIGHT
BEGIN:DAYLIGHT
DTSTART:20250330T030000
RDATE:20251026T020000
TZOFFSETFROM:+0100
TZOFFSETTO:+0200
TZNAME:Europe/Brussels CEST
END:DAYLIGHT
BEGIN:DAYLIGHT
DTSTART:20260329T030000
RDATE:20261025T020000
TZOFFSETFROM:+0100
TZOFFSETTO:+0200
TZNAME:Europe/Brussels CEST
END:DAYLIGHT
BEGIN:DAYLIGHT
DTSTART:20270328T030000
RDATE:20271031T020000
TZOFFSETFROM:+0100
TZOFFSETTO:+0200
TZNAME:Europe/Brussels CEST
END:DAYLIGHT
END:VTIMEZONE
BEGIN:VEVENT
UID:f80e3ebec233daaa2a3d715aebb7ad57
CATEGORIES:Volleybal
CREATED:19700101T010000
SUMMARY:Volleyball
LOCATION:Sporthal Linkeroever
DESCRIPTION:<p>Probeer op tijd te zijn zodat je je voldoende kan opwarmen</p>
CONTACT:Kenneth
DTSTAMP:20260423T104124
DTSTART;TZID=Europe/Brussels:20250902T200000
DTEND;TZID=Europe/Brussels:20250902T230000
SEQUENCE:0
RRULE:FREQ=WEEKLY;UNTIL=20260630T000000Z;INTERVAL=1;BYDAY=TU
TRANSP:OPAQUE
END:VEVENT
BEGIN:VEVENT
UID:f80e3ebec233daaa2a3d715aebb7ad57
CATEGORIES:Volleybal
CREATED:20250923T111350
SUMMARY:Volleyball
LOCATION:Sporthal Linkeroever
DESCRIPTION:<p>Probeer op tijd te zijn zodat je je voldoende kan opwarmen<br />first ho
 ur : 1 court</p>
URL;VALUE=URI:https://activecompany.be/nl/agenda/activiteitdetail/16299/-/volleyball?tmpl
 =component
CONTACT:Kenneth

DTSTAMP:20260423T104124
DTSTART;TZID=Europe/Brussels:20260407T200000
DTEND;TZID=Europe/Brussels:20260407T230000
RECURRENCE-ID;TZID=Europe/Brussels:20260407T200000
SEQUENCE:0
TRANSP:OPAQUE
END:VEVENT
BEGIN:VEVENT
UID:f80e3ebec233daaa2a3d715aebb7ad57
CATEGORIES:Volleybal
CREATED:20250923T111350
SUMMARY:Volleyball
LOCATION:Sporthal Linkeroever
DESCRIPTION:<p>Probeer op tijd te zijn zodat je je voldoende kan opwarmen<br />First ho
 ur : 1 court</p>
URL;VALUE=URI:https://activecompany.be/nl/agenda/activiteitdetail/16303/-/volleyball?tmpl
 =component
CONTACT:Kenneth

DTSTAMP:20260423T104124
DTSTART;TZID=Europe/Brussels:20260505T200000
DTEND;TZID=Europe/Brussels:20260505T230000
RECURRENCE-ID;TZID=Europe/Brussels:20260505T200000
SEQUENCE:0
TRANSP:OPAQUE
END:VEVENT
BEGIN:VEVENT
UID:f80e3ebec233daaa2a3d715aebb7ad57
CATEGORIES:Volleybal
CREATED:20250923T111350
SUMMARY:Volleyball
LOCATION:Sporthal Linkeroever
DESCRIPTION:<p>Probeer op tijd te zijn zodat je je voldoende kan opwarmen</p><p>First h
 our : 1 court</p>
URL;VALUE=URI:https://activecompany.be/nl/agenda/activiteitdetail/16307/-/volleyball?tmpl
 =component
CONTACT:Kenneth

DTSTAMP:20260423T104124
DTSTART;TZID=Europe/Brussels:20260602T200000
DTEND;TZID=Europe/Brussels:20260602T230000
RECURRENCE-ID;TZID=Europe/Brussels:20260602T200000
SEQUENCE:0
TRANSP:OPAQUE
END:VEVENT
END:VCALENDAR