BEGIN:VCALENDAR
VERSION:2.0
PRODID:-//jEvents 2.0 for Joomla//EN
CALSCALE:GREGORIAN
METHOD:PUBLISH
BEGIN:VTIMEZONE
TZID:Europe/Brussels
BEGIN:STANDARD
DTSTART:20250107T200000
RDATE:20250330T030000
TZOFFSETFROM:+0200
TZOFFSETTO:+0100
TZNAME:Europe/Brussels CET
END:STANDARD
BEGIN:STANDARD
DTSTART:20251026T020000
RDATE:20260329T030000
TZOFFSETFROM:+0200
TZOFFSETTO:+0100
TZNAME:Europe/Brussels CET
END:STANDARD
BEGIN:STANDARD
DTSTART:20261025T020000
RDATE:20270328T030000
TZOFFSETFROM:+0200
TZOFFSETTO:+0100
TZNAME:Europe/Brussels CET
END:STANDARD
BEGIN:STANDARD
DTSTART:20271031T020000
RDATE:20280326T030000
TZOFFSETFROM:+0200
TZOFFSETTO:+0100
TZNAME:Europe/Brussels CET
END:STANDARD
BEGIN:DAYLIGHT
DTSTART:20250330T030000
RDATE:20251026T020000
TZOFFSETFROM:+0100
TZOFFSETTO:+0200
TZNAME:Europe/Brussels CEST
END:DAYLIGHT
BEGIN:DAYLIGHT
DTSTART:20260329T030000
RDATE:20261025T020000
TZOFFSETFROM:+0100
TZOFFSETTO:+0200
TZNAME:Europe/Brussels CEST
END:DAYLIGHT
BEGIN:DAYLIGHT
DTSTART:20270328T030000
RDATE:20271031T020000
TZOFFSETFROM:+0100
TZOFFSETTO:+0200
TZNAME:Europe/Brussels CEST
END:DAYLIGHT
END:VTIMEZONE
BEGIN:VEVENT
UID:d97bd037f25e41f3d597c278fe0a233d
CATEGORIES:Yoga
CREATED:19700101T010000
SUMMARY:Yoga
LOCATION:Op de zolder van het Roze Huis\, Draakplaats 1\, Antwerpen
DESCRIPTION:<p>Yoga</p>
CONTACT: de AV Yoga (mailto:av.yoga@activecompany.be?subject=Yoga) 
X-EXTRAINFO:zie https://www.activecompany.be/activiteiten/yoga
DTSTAMP:20260422T164622
DTSTART;TZID=Europe/Brussels:20260108T200000
DTEND;TZID=Europe/Brussels:20260108T213000
SEQUENCE:0
RRULE:FREQ=WEEKLY;UNTIL=20270101T000000Z;INTERVAL=1;BYDAY=TH
EXDATE;TZID=Europe/Brussels:20260101T200000
TRANSP:OPAQUE
END:VEVENT
BEGIN:VEVENT
UID:d97bd037f25e41f3d597c278fe0a233d
CATEGORIES:Yoga
CREATED:20251217T184735
SUMMARY:Geen yoga
LOCATION:Op de zolder van het Roze Huis, Draakplaats 1, Antwerpen
DESCRIPTION:<p>Yoga</p>
URL;VALUE=URI:https://activecompany.be/nl/agenda/activiteitdetail/16415/-/geen-yoga?tmpl=
 component
CONTACT: de AV Yoga 
X-EXTRAINFO:zie https://www.activecompany.be/activiteiten/yoga
DTSTAMP:20260422T164622
DTSTART;TZID=Europe/Brussels:20261231T200000
DTEND;TZID=Europe/Brussels:20261231T213000
RECURRENCE-ID;TZID=Europe/Brussels:20261231T200000
SEQUENCE:0
TRANSP:OPAQUE
END:VEVENT
BEGIN:VEVENT
UID:d97bd037f25e41f3d597c278fe0a233d
CATEGORIES:Yoga
CREATED:20251217T184735
SUMMARY:Geen yoga
LOCATION:Op de zolder van het Roze Huis, Draakplaats 1, Antwerpen
DESCRIPTION:<p>Yoga</p>
URL;VALUE=URI:https://activecompany.be/nl/agenda/activiteitdetail/16447/-/geen-yoga?tmpl=
 component
CONTACT: de AV Yoga 
X-EXTRAINFO:zie https://www.activecompany.be/activiteiten/yoga
DTSTAMP:20260422T164622
DTSTART;TZID=Europe/Brussels:20260806T200000
DTEND;TZID=Europe/Brussels:20260806T213000
RECURRENCE-ID;TZID=Europe/Brussels:20260806T200000
SEQUENCE:0
TRANSP:OPAQUE
END:VEVENT
BEGIN:VEVENT
UID:d97bd037f25e41f3d597c278fe0a233d
CATEGORIES:Yoga
CREATED:20251217T184735
SUMMARY:Geen yoga
LOCATION:Op de zolder van het Roze Huis, Draakplaats 1, Antwerpen
DESCRIPTION:<p>Yoga</p>
URL;VALUE=URI:https://activecompany.be/nl/agenda/activiteitdetail/16467/-/geen-yoga?tmpl=
 component
CONTACT: de AV Yoga 
X-EXTRAINFO:zie https://www.activecompany.be/activiteiten/yoga
DTSTAMP:20260422T164622
DTSTART;TZID=Europe/Brussels:20261224T200000
DTEND;TZID=Europe/Brussels:20261224T213000
RECURRENCE-ID;TZID=Europe/Brussels:20261224T200000
SEQUENCE:0
TRANSP:OPAQUE
END:VEVENT
END:VCALENDAR