BEGIN:VCALENDAR
VERSION:2.0
PRODID:-//jEvents 2.0 for Joomla//EN
CALSCALE:GREGORIAN
METHOD:PUBLISH
BEGIN:VTIMEZONE
TZID:Europe/Brussels
BEGIN:STANDARD
DTSTART:20251026T020000
RDATE:20260329T030000
TZOFFSETFROM:+0200
TZOFFSETTO:+0100
TZNAME:Europe/Brussels CET
END:STANDARD
BEGIN:STANDARD
DTSTART:20261025T020000
RDATE:20270328T030000
TZOFFSETFROM:+0200
TZOFFSETTO:+0100
TZNAME:Europe/Brussels CET
END:STANDARD
BEGIN:STANDARD
DTSTART:20271031T020000
RDATE:20280326T030000
TZOFFSETFROM:+0200
TZOFFSETTO:+0100
TZNAME:Europe/Brussels CET
END:STANDARD
BEGIN:DAYLIGHT
DTSTART:20250530T080000
RDATE:20251026T020000
TZOFFSETFROM:+0100
TZOFFSETTO:+0200
TZNAME:Europe/Brussels CEST
END:DAYLIGHT
BEGIN:DAYLIGHT
DTSTART:20260329T030000
RDATE:20261025T020000
TZOFFSETFROM:+0100
TZOFFSETTO:+0200
TZNAME:Europe/Brussels CEST
END:DAYLIGHT
BEGIN:DAYLIGHT
DTSTART:20270328T030000
RDATE:20271031T020000
TZOFFSETFROM:+0100
TZOFFSETTO:+0200
TZNAME:Europe/Brussels CEST
END:DAYLIGHT
END:VTIMEZONE
BEGIN:VEVENT
UID:d8d4c384608188a92186ff0c5310d5c7
CATEGORIES:Volleybal Special
CREATED:20260106T103954
SUMMARY:Utrecht Competitie - Team A level
LOCATION:Sportcentrum Olympos  Uppsalalaan 3\, 3584 CT Utrecht\, Nederland
DESCRIPTION:<p><span style="font-size: 10pt;">Utrecht - Homocompetitie -&nbsp;</span><s
 pan style="font-size: 10pt;">Sportcentrum Olympos<br /><br /><a href="https
 ://maps.google.com/maps?hl=nl&amp;gl=be&amp;um=1&amp;ie=UTF-8&amp;fb=1&amp;
 sa=X&amp;ftid=0x47c66891cd560d1f:0x1aae99025bbaa385">Uppsalalaan 3, 3584 CT
  Utrecht, Nederland</a><br /></span></p>
CONTACT:Koen
X-EXTRAINFO:A &amp; B team !\n\nUren te bevestigen
DTSTAMP:20260423T104049
DTSTART;TZID=Europe/Brussels:20260531T080000
DTEND;TZID=Europe/Brussels:20260531T170000
SEQUENCE:0
TRANSP:OPAQUE
END:VEVENT
END:VCALENDAR