BEGIN:VCALENDAR
VERSION:2.0
PRODID:-//jEvents 2.0 for Joomla//EN
CALSCALE:GREGORIAN
METHOD:PUBLISH
BEGIN:VTIMEZONE
TZID:Europe/Brussels
BEGIN:STANDARD
DTSTART:20251026T020000
RDATE:20260329T030000
TZOFFSETFROM:+0200
TZOFFSETTO:+0100
TZNAME:Europe/Brussels CET
END:STANDARD
BEGIN:STANDARD
DTSTART:20261025T020000
RDATE:20270328T030000
TZOFFSETFROM:+0200
TZOFFSETTO:+0100
TZNAME:Europe/Brussels CET
END:STANDARD
BEGIN:STANDARD
DTSTART:20271031T020000
RDATE:20280326T030000
TZOFFSETFROM:+0200
TZOFFSETTO:+0100
TZNAME:Europe/Brussels CET
END:STANDARD
BEGIN:DAYLIGHT
DTSTART:20250406T201500
RDATE:20251026T020000
TZOFFSETFROM:+0100
TZOFFSETTO:+0200
TZNAME:Europe/Brussels CEST
END:DAYLIGHT
BEGIN:DAYLIGHT
DTSTART:20260329T030000
RDATE:20261025T020000
TZOFFSETFROM:+0100
TZOFFSETTO:+0200
TZNAME:Europe/Brussels CEST
END:DAYLIGHT
BEGIN:DAYLIGHT
DTSTART:20270328T030000
RDATE:20271031T020000
TZOFFSETFROM:+0100
TZOFFSETTO:+0200
TZNAME:Europe/Brussels CEST
END:DAYLIGHT
END:VTIMEZONE
BEGIN:VEVENT
UID:e29f880d0b45e374dc66317016a98ec4
CATEGORIES:Workout
CREATED:20250626T191206
SUMMARY:Workout
LOCATION:Blancefloerlaan 183\, 2050 Linkeroever
DESCRIPTION:<p>De AC Workout...</p><p>Beroemd, berucht, maar vooral plezant.</p><p>60 m
 inuten zweten, hijgen en puffen op fijne beats! Is er iets leukers??</p><p>
 Waar: Sporthal Linkeroever, Blancefloerlaan 183, 2050 Antwerpen</p><p>Wanne
 er: elke dinsdag, verzamelen om 20u, start 20.15u, einde 21.15u (laatkomers
  doen 16356 burpees extra)</p><p>Meenemen:</p><p>- yoga mat</p><p>- water</
 p><p>- douchegerief als je wil douchen.&nbsp;</p><p>Eerste keer meedoen? st
 uur effe een mail naar&nbsp;<joomla-hidden-mail  is-link="1" is-email="1" f
 irst="YXYud29ya291dA==" last="YWN0aXZlY29tcGFueS5iZQ==" text="YXYud29ya291d
 EBhY3RpdmVjb21wYW55LmJl" base="" >Dit E-mail adres wordt beschermd tegen sp
 ambots. U moet JavaScript geactiveerd hebben om het te kunnen zien.</joomla
 -hidden-mail></p>
CONTACT:Dit E-mail adres wordt beschermd tegen spambots. U moet JavaScript geactiveerd hebben om het te kunnen zien.
X-EXTRAINFO:Eerste keer meedoen? stuur effe een mail naar Dit E-mail adres wordt besche
 rmd tegen spambots. U moet JavaScript geactiveerd hebben om het te kunnen z
 ien.\n
DTSTAMP:20260422T163831
DTSTART;TZID=Europe/Brussels:20260407T201500
DTEND;TZID=Europe/Brussels:20260407T211500
SEQUENCE:0
TRANSP:OPAQUE
END:VEVENT
END:VCALENDAR