BEGIN:VCALENDAR
VERSION:2.0
PRODID:-//jEvents 2.0 for Joomla//EN
CALSCALE:GREGORIAN
METHOD:PUBLISH
BEGIN:VTIMEZONE
TZID:Europe/Brussels
BEGIN:STANDARD
DTSTART:20251026T020000
RDATE:20260329T030000
TZOFFSETFROM:+0200
TZOFFSETTO:+0100
TZNAME:Europe/Brussels CET
END:STANDARD
BEGIN:STANDARD
DTSTART:20261025T020000
RDATE:20270328T030000
TZOFFSETFROM:+0200
TZOFFSETTO:+0100
TZNAME:Europe/Brussels CET
END:STANDARD
BEGIN:STANDARD
DTSTART:20271031T020000
RDATE:20280326T030000
TZOFFSETFROM:+0200
TZOFFSETTO:+0100
TZNAME:Europe/Brussels CET
END:STANDARD
BEGIN:DAYLIGHT
DTSTART:20250713T200000
RDATE:20251026T020000
TZOFFSETFROM:+0100
TZOFFSETTO:+0200
TZNAME:Europe/Brussels CEST
END:DAYLIGHT
BEGIN:DAYLIGHT
DTSTART:20260329T030000
RDATE:20261025T020000
TZOFFSETFROM:+0100
TZOFFSETTO:+0200
TZNAME:Europe/Brussels CEST
END:DAYLIGHT
BEGIN:DAYLIGHT
DTSTART:20270328T030000
RDATE:20271031T020000
TZOFFSETFROM:+0100
TZOFFSETTO:+0200
TZNAME:Europe/Brussels CEST
END:DAYLIGHT
END:VTIMEZONE
BEGIN:VEVENT
UID:425ddb2906e6d894a62f0a6e4e56b117
CATEGORIES:Volleybal
CREATED:20260316T141231
SUMMARY:Summer Bal
LOCATION:Wilrijk - Fort VIII
DESCRIPTION:<p><span style="font-size: 12pt;">Zodra meer info, kan je hier lezen waar e
 n wanneer we deze zomer spelen.</span><br /><br /><span style="font-size: 1
 2pt;">De aanvraag is bij de gemeentelijke sportdienst</span><br /><br /><br
  /></p><p><span style="color: #1c2674; font-size: 12pt;">As soon as we have
  more information, you’ll be able to read here where and when we’re playing
  this summer.</span></p><p><span style="color: #1c2674; font-size: 12pt;">T
 he application has been submitted to the municipal sports department</span>
 </p>
CONTACT:Luc
DTSTAMP:20260422T150606
DTSTART;TZID=Europe/Brussels:20260714T200000
DTEND;TZID=Europe/Brussels:20260714T220000
SEQUENCE:0
TRANSP:OPAQUE
END:VEVENT
END:VCALENDAR